BEGIN:VCALENDAR
VERSION:2.0
PRODID:-//Réseau de milieux naturels protégés - ECPv6.15.17.1//NONSGML v1.0//EN
CALSCALE:GREGORIAN
METHOD:PUBLISH
X-WR-CALNAME:Réseau de milieux naturels protégés
X-ORIGINAL-URL:https://rmnat.org
X-WR-CALDESC:Évènements pour Réseau de milieux naturels protégés
REFRESH-INTERVAL;VALUE=DURATION:PT1H
X-Robots-Tag:noindex
X-PUBLISHED-TTL:PT1H
BEGIN:VTIMEZONE
TZID:America/Toronto
BEGIN:DAYLIGHT
TZOFFSETFROM:-0500
TZOFFSETTO:-0400
TZNAME:EDT
DTSTART:20240310T070000
END:DAYLIGHT
BEGIN:STANDARD
TZOFFSETFROM:-0400
TZOFFSETTO:-0500
TZNAME:EST
DTSTART:20241103T060000
END:STANDARD
BEGIN:DAYLIGHT
TZOFFSETFROM:-0500
TZOFFSETTO:-0400
TZNAME:EDT
DTSTART:20250309T070000
END:DAYLIGHT
BEGIN:STANDARD
TZOFFSETFROM:-0400
TZOFFSETTO:-0500
TZNAME:EST
DTSTART:20251102T060000
END:STANDARD
BEGIN:DAYLIGHT
TZOFFSETFROM:-0500
TZOFFSETTO:-0400
TZNAME:EDT
DTSTART:20260308T070000
END:DAYLIGHT
BEGIN:STANDARD
TZOFFSETFROM:-0400
TZOFFSETTO:-0500
TZNAME:EST
DTSTART:20261101T060000
END:STANDARD
END:VTIMEZONE
BEGIN:VEVENT
DTSTART;TZID=America/Toronto:20251021T180000
DTEND;TZID=America/Toronto:20251021T200000
DTSTAMP:20260423T191836
CREATED:20250911T203748Z
LAST-MODIFIED:20250915T182810Z
UID:10000269-1761069600-1761076800@rmnat.org
SUMMARY:Gala des Prix de la conservation volontaire 2025
DESCRIPTION:À la veille des Ateliers sur la conservation des milieux naturels 2025\, le RMN et Nature sauvage sont ravis d’organiser la deuxième édition du Gala des Prix de la conservation volontaire\, en partenariat avec la Fondation de la faune du Québec et la Caisse d’économie solidaire Desjardins. Grâce à ces Prix\, nous récompensons\, encourageons et célébrons les efforts de conservation effectués par des acteurs non-gouvernementaux au Québec. \nAu cours de cette soirée\, un total de 10 500 $ en bourses sera ainsi distribué à travers les prix suivants: \n– Prix de la relève présenté par Nature sauvage | 2 500$\n– Prix de l’acquisition de l’année présenté par la Caisse d’économie solidaire Desjardins | 4 000$\n– Prix de l’initiative de l’année présenté par la Fondation de la faune du Québec | 4 000$ \nPour de plus amples détails sur la mise en candidature* : https://www.naturesauvage.ca/prix-conservation/\n*Veuillez noter que la période de mise en candidature s’est terminée le 28 juillet dernier. \nInscription
URL:https://rmnat.org/evenement/gala-des-prix-de-la-conservation-nature-sauvage-2025/
LOCATION:Salle Victoria\, Hôtel Le Victorin\, 19 Boulevard Arthabaska Est Victoriaville\, QC G6T 0S4\, Canada
CATEGORIES:Évènements
ATTACH;FMTTYPE=image/png:https://rmnat.org/wp-content/uploads/2025/09/GALA-PCV-5.png
END:VEVENT
END:VCALENDAR