BEGIN:VCALENDAR
VERSION:2.0
PRODID:-//Réseau de milieux naturels protégés - ECPv6.15.17.1//NONSGML v1.0//EN
CALSCALE:GREGORIAN
METHOD:PUBLISH
X-ORIGINAL-URL:https://rmnat.org
X-WR-CALDESC:Évènements pour Réseau de milieux naturels protégés
REFRESH-INTERVAL;VALUE=DURATION:PT1H
X-Robots-Tag:noindex
X-PUBLISHED-TTL:PT1H
BEGIN:VTIMEZONE
TZID:America/Toronto
BEGIN:DAYLIGHT
TZOFFSETFROM:-0500
TZOFFSETTO:-0400
TZNAME:EDT
DTSTART:20240310T070000
END:DAYLIGHT
BEGIN:STANDARD
TZOFFSETFROM:-0400
TZOFFSETTO:-0500
TZNAME:EST
DTSTART:20241103T060000
END:STANDARD
BEGIN:DAYLIGHT
TZOFFSETFROM:-0500
TZOFFSETTO:-0400
TZNAME:EDT
DTSTART:20250309T070000
END:DAYLIGHT
BEGIN:STANDARD
TZOFFSETFROM:-0400
TZOFFSETTO:-0500
TZNAME:EST
DTSTART:20251102T060000
END:STANDARD
BEGIN:DAYLIGHT
TZOFFSETFROM:-0500
TZOFFSETTO:-0400
TZNAME:EDT
DTSTART:20260308T070000
END:DAYLIGHT
BEGIN:STANDARD
TZOFFSETFROM:-0400
TZOFFSETTO:-0500
TZNAME:EST
DTSTART:20261101T060000
END:STANDARD
END:VTIMEZONE
BEGIN:VEVENT
DTSTART;VALUE=DATE:20251022
DTEND;VALUE=DATE:20251024
DTSTAMP:20260423T192020
CREATED:20250915T184209Z
LAST-MODIFIED:20250915T184209Z
UID:10000270-1761091200-1761263999@rmnat.org
SUMMARY:Ateliers sur la conservation des milieux naturels 2025
DESCRIPTION:C’est à Victoriaville\, du 22 au 23 octobre\, que se tiendra l’édition 2025 des Ateliers. Pour cette édition\, les Ateliers permettront de démontrer le leadership des acteur·trices de la conservation et de prendre un temps de pause afin de réfléchir à la meilleure façon de concrétiser notre vision de la conservation. Nous croyons que cette prochaine édition des Ateliers sera l’occasion de se mobiliser et de se mettre en action pour l’avenir en collaborant efficacement à la protection\, la restauration et l’utilisation durable du territoire. Nous invitons donc tous les professionnel·les évoluant au sein de la conservation à prendre part à deux jours d’ateliers et de discussions. \nInscription
URL:https://rmnat.org/evenement/ateliers-sur-la-conservation-des-milieux-naturels-2025/
LOCATION:Salle Victoria\, Hôtel Le Victorin\, 19 Boulevard Arthabaska Est Victoriaville\, QC G6T 0S4\, Canada
CATEGORIES:Évènements
ATTACH;FMTTYPE=image/jpeg:https://rmnat.org/wp-content/uploads/2025/09/ateliers2025.jpg
END:VEVENT
END:VCALENDAR