BEGIN:VCALENDAR
VERSION:2.0
PRODID:-//Réseau de milieux naturels protégés - ECPv6.15.17.1//NONSGML v1.0//EN
CALSCALE:GREGORIAN
METHOD:PUBLISH
X-ORIGINAL-URL:https://rmnat.org
X-WR-CALDESC:Évènements pour Réseau de milieux naturels protégés
REFRESH-INTERVAL;VALUE=DURATION:PT1H
X-Robots-Tag:noindex
X-PUBLISHED-TTL:PT1H
BEGIN:VTIMEZONE
TZID:America/Toronto
BEGIN:DAYLIGHT
TZOFFSETFROM:-0500
TZOFFSETTO:-0400
TZNAME:EDT
DTSTART:20240310T070000
END:DAYLIGHT
BEGIN:STANDARD
TZOFFSETFROM:-0400
TZOFFSETTO:-0500
TZNAME:EST
DTSTART:20241103T060000
END:STANDARD
BEGIN:DAYLIGHT
TZOFFSETFROM:-0500
TZOFFSETTO:-0400
TZNAME:EDT
DTSTART:20250309T070000
END:DAYLIGHT
BEGIN:STANDARD
TZOFFSETFROM:-0400
TZOFFSETTO:-0500
TZNAME:EST
DTSTART:20251102T060000
END:STANDARD
BEGIN:DAYLIGHT
TZOFFSETFROM:-0500
TZOFFSETTO:-0400
TZNAME:EDT
DTSTART:20260308T070000
END:DAYLIGHT
BEGIN:STANDARD
TZOFFSETFROM:-0400
TZOFFSETTO:-0500
TZNAME:EST
DTSTART:20261101T060000
END:STANDARD
END:VTIMEZONE
BEGIN:VEVENT
DTSTART;TZID=America/Toronto:20251210T120000
DTEND;TZID=America/Toronto:20251210T130000
DTSTAMP:20260423T162133
CREATED:20251121T191846Z
LAST-MODIFIED:20251121T191846Z
UID:10000273-1765368000-1765371600@rmnat.org
SUMMARY:Faune\, flore et fonge : quelle place pour les champignons en conservation au Canada et au Québec?
DESCRIPTION:Dans le monde de la conservation\, on parle souvent de faune et de flore. Mais qu’en est-il de la fonge\, distincte des deux premières catégories et pourtant tout aussi essentielle à la préservation de la biodiversité? \nMycosphaera vise à démocratiser l’accès à la mycologie – soit la science qui étudie les champignons – pour susciter l’intérêt envers cette discipline encore méconnue et inspirer une nouvelle génération de chercheur·ses\, biologistes et écologistes. L’organisme a d’ailleurs été récipiendaire du Prix de l’initiative de l’année au Gala des Prix de la conservation volontaire 2025. \nDans ce webinaire\, Mathias Rocheleau-Duplain\, directeur général et cofondateur de Mycosphaera\, et Jonathan Cazabonne\, président et co-fondateur de Mycosphaera\, présenteront la mission de l’organisme et aborderont le rôle crucial des champignons dans la protection de la biodiversité en territoires canadiens et québécois. \nInscription
URL:https://rmnat.org/evenement/faune-flore-et-fonge-quelle-place-pour-les-champignons-en-conservation-au-canada-et-au-quebec/
CATEGORIES:Les Midis-conservation
ATTACH;FMTTYPE=image/png:https://rmnat.org/wp-content/uploads/2025/11/MC-fonge.png
END:VEVENT
END:VCALENDAR