BEGIN:VCALENDAR
VERSION:2.0
PRODID:-//Réseau de milieux naturels protégés - ECPv6.15.17.1//NONSGML v1.0//EN
CALSCALE:GREGORIAN
METHOD:PUBLISH
X-ORIGINAL-URL:https://rmnat.org
X-WR-CALDESC:Évènements pour Réseau de milieux naturels protégés
REFRESH-INTERVAL;VALUE=DURATION:PT1H
X-Robots-Tag:noindex
X-PUBLISHED-TTL:PT1H
BEGIN:VTIMEZONE
TZID:America/Toronto
BEGIN:DAYLIGHT
TZOFFSETFROM:-0500
TZOFFSETTO:-0400
TZNAME:EDT
DTSTART:20250309T070000
END:DAYLIGHT
BEGIN:STANDARD
TZOFFSETFROM:-0400
TZOFFSETTO:-0500
TZNAME:EST
DTSTART:20251102T060000
END:STANDARD
BEGIN:DAYLIGHT
TZOFFSETFROM:-0500
TZOFFSETTO:-0400
TZNAME:EDT
DTSTART:20260308T070000
END:DAYLIGHT
BEGIN:STANDARD
TZOFFSETFROM:-0400
TZOFFSETTO:-0500
TZNAME:EST
DTSTART:20261101T060000
END:STANDARD
BEGIN:DAYLIGHT
TZOFFSETFROM:-0500
TZOFFSETTO:-0400
TZNAME:EDT
DTSTART:20270314T070000
END:DAYLIGHT
BEGIN:STANDARD
TZOFFSETFROM:-0400
TZOFFSETTO:-0500
TZNAME:EST
DTSTART:20271107T060000
END:STANDARD
END:VTIMEZONE
BEGIN:VEVENT
DTSTART;TZID=America/Toronto:20260219T100000
DTEND;TZID=America/Toronto:20260219T113000
DTSTAMP:20260423T161600
CREATED:20260119T220915Z
LAST-MODIFIED:20260119T220951Z
UID:10000276-1771495200-1771500600@rmnat.org
SUMMARY:La protection d’un milieu naturel : les étapes essentielles
DESCRIPTION:Cette présentation est une activité de transfert de connaissances destinée aux organismes de conservation et à toute entité souhaitant entreprendre un projet d’acquisition. \nAnimée par Philippe Di Pietrantonio et inspirée de l’approche développée par Corridor appalachien\, elle aborde les étapes essentiels d’un projet de conservation volontaire. La démarche met en lumière les acteurs clés\, les outils disponibles et l’importance du lien de confiance avec les propriétaires. \nOffre spéciale :\nPour 3 participants et plus du même organisme : le 4ᵉ billet est offert.\nS’il n’y a pas de 4ᵉ participant : rabais de 25 % sur les trois billets\n(veuillez nous contacter pour le code promo à info@rmnat.org) \nInscription\nPolitique de remboursement\nRemboursement possible jusqu’à 7 jours avant la formation.\nAucun remboursement après\, mais la place peut être transférée à un(e) collègue sur avis préalable.
URL:https://rmnat.org/evenement/la-protection-dun-milieu-naturel-les-etapes-essentielles/
CATEGORIES:Ateliers,Webinaires
ATTACH;FMTTYPE=image/png:https://rmnat.org/wp-content/uploads/2026/01/ATELIER-protec-milieu-1.png
END:VEVENT
BEGIN:VEVENT
DTSTART;TZID=America/Toronto:20260227T110000
DTEND;TZID=America/Toronto:20260227T120000
DTSTAMP:20260423T161600
CREATED:20260119T221305Z
LAST-MODIFIED:20260119T221305Z
UID:10000277-1772190000-1772193600@rmnat.org
SUMMARY:Travailler avec un organisme de conservation dans le cadre de mandats notariés
DESCRIPTION:Formation pour notaires du Québec \nIntroduction aux transactions immobilières impliquant des organismes de conservation \nCette formation s’adresse aux notaires du Québec et vise à outiller les praticiens appelés à collaborer avec des organismes de conservation (OC) dans le cadre de projets de protection du territoire. \nLa formation est structurée autour de deux volets complémentaires : \n\nLes particularités des transactions immobilières impliquant un OC\, incluant les ententes de financement et exigences juridiques et administratives qui s’éloignent du cadre plus « traditionnel » de la pratique notariale. Ce volet permettra de mieux comprendre ces réalités et d’anticiper les enjeux propres à ce type de dossiers.\nUn survol de certains actes juridiques moins courants\, mais utilisés par les OC comme outils de conservation des milieux naturels.\n\nUne attestation sera remise aux notaires ayant suivi la formation. \nInscription\nPolitique de remboursement \n\nRemboursement partiel possible jusqu’à 7 jours avant la formation (frais de 25$).\nAucun remboursement après\, mais la place peut être transférée à un(e) collègue sur avis préalable.
URL:https://rmnat.org/evenement/travailler-avec-un-organisme-de-conservation-dans-le-cadre-de-mandats-notaries/
CATEGORIES:Ateliers,Webinaires
ATTACH;FMTTYPE=image/png:https://rmnat.org/wp-content/uploads/2026/01/ATELIER-notaire-3.png
END:VEVENT
END:VCALENDAR