BEGIN:VCALENDAR
VERSION:2.0
PRODID:-//Réseau de milieux naturels protégés - ECPv6.15.17.1//NONSGML v1.0//EN
CALSCALE:GREGORIAN
METHOD:PUBLISH
X-WR-CALNAME:Réseau de milieux naturels protégés
X-ORIGINAL-URL:https://rmnat.org
X-WR-CALDESC:Évènements pour Réseau de milieux naturels protégés
REFRESH-INTERVAL;VALUE=DURATION:PT1H
X-Robots-Tag:noindex
X-PUBLISHED-TTL:PT1H
BEGIN:VTIMEZONE
TZID:America/Toronto
BEGIN:DAYLIGHT
TZOFFSETFROM:-0500
TZOFFSETTO:-0400
TZNAME:EDT
DTSTART:20220313T070000
END:DAYLIGHT
BEGIN:STANDARD
TZOFFSETFROM:-0400
TZOFFSETTO:-0500
TZNAME:EST
DTSTART:20221106T060000
END:STANDARD
BEGIN:DAYLIGHT
TZOFFSETFROM:-0500
TZOFFSETTO:-0400
TZNAME:EDT
DTSTART:20230312T070000
END:DAYLIGHT
BEGIN:STANDARD
TZOFFSETFROM:-0400
TZOFFSETTO:-0500
TZNAME:EST
DTSTART:20231105T060000
END:STANDARD
BEGIN:DAYLIGHT
TZOFFSETFROM:-0500
TZOFFSETTO:-0400
TZNAME:EDT
DTSTART:20240310T070000
END:DAYLIGHT
BEGIN:STANDARD
TZOFFSETFROM:-0400
TZOFFSETTO:-0500
TZNAME:EST
DTSTART:20241103T060000
END:STANDARD
BEGIN:DAYLIGHT
TZOFFSETFROM:-0500
TZOFFSETTO:-0400
TZNAME:EDT
DTSTART:20250309T070000
END:DAYLIGHT
BEGIN:STANDARD
TZOFFSETFROM:-0400
TZOFFSETTO:-0500
TZNAME:EST
DTSTART:20251102T060000
END:STANDARD
END:VTIMEZONE
BEGIN:VEVENT
DTSTART;VALUE=DATE:20231211
DTEND;VALUE=DATE:20240113
DTSTAMP:20260425T114921
CREATED:20231211T171604Z
LAST-MODIFIED:20231211T173022Z
UID:10000152-1702252800-1705103999@rmnat.org
SUMMARY:Période d’inscription aux sessions questions & réponses avec expert.e
DESCRIPTION:Vous devez vous connecter pour accéder à l'espace membre. \nSe connecter \nComment devenir membre ?
URL:https://rmnat.org/evenement/periode-dinscription-aux-sessions-questions-reponses-avec-expert-e-2/
CATEGORIES:Sessions d'information
END:VEVENT
END:VCALENDAR