BEGIN:VCALENDAR
VERSION:2.0
PRODID:-//Réseau de milieux naturels protégés - ECPv6.15.17.1//NONSGML v1.0//EN
CALSCALE:GREGORIAN
METHOD:PUBLISH
X-WR-CALNAME:Réseau de milieux naturels protégés
X-ORIGINAL-URL:https://rmnat.org
X-WR-CALDESC:Évènements pour Réseau de milieux naturels protégés
REFRESH-INTERVAL;VALUE=DURATION:PT1H
X-Robots-Tag:noindex
X-PUBLISHED-TTL:PT1H
BEGIN:VTIMEZONE
TZID:America/Toronto
BEGIN:DAYLIGHT
TZOFFSETFROM:-0500
TZOFFSETTO:-0400
TZNAME:EDT
DTSTART:20250309T070000
END:DAYLIGHT
BEGIN:STANDARD
TZOFFSETFROM:-0400
TZOFFSETTO:-0500
TZNAME:EST
DTSTART:20251102T060000
END:STANDARD
BEGIN:DAYLIGHT
TZOFFSETFROM:-0500
TZOFFSETTO:-0400
TZNAME:EDT
DTSTART:20260308T070000
END:DAYLIGHT
BEGIN:STANDARD
TZOFFSETFROM:-0400
TZOFFSETTO:-0500
TZNAME:EST
DTSTART:20261101T060000
END:STANDARD
BEGIN:DAYLIGHT
TZOFFSETFROM:-0500
TZOFFSETTO:-0400
TZNAME:EDT
DTSTART:20270314T070000
END:DAYLIGHT
BEGIN:STANDARD
TZOFFSETFROM:-0400
TZOFFSETTO:-0500
TZNAME:EST
DTSTART:20271107T060000
END:STANDARD
END:VTIMEZONE
BEGIN:VEVENT
DTSTART;TZID=America/Toronto:20260429T120000
DTEND;TZID=America/Toronto:20260429T130000
DTSTAMP:20260423T073701
CREATED:20260226T003935Z
LAST-MODIFIED:20260226T003935Z
UID:10000280-1777464000-1777467600@rmnat.org
SUMMARY:Emprises connectées : solutions d’aménagement d’Hydro-Québec pour la biodiversité
DESCRIPTION:Les infrastructures urbaines fragmentent les milieux naturels et menacent la biodiversité. Pourtant\, certaines de leurs composantes offrent une opportunité unique de créer des corridors écologiques et de restaurer la connectivité entre les habitats. C’est justement le cas des emprises électriques. Dans ce webinaire\, Hydro-Québec présentera ses outils pratiques destinés à aider les municipalités et partenaires à concevoir des projets d’aménagement compatibles avec le réseau électrique et bénéfiques pour la faune et la flore. L’experte en environnement d’Hydro-Québec\, Véronique Michaud\, partagera des exemples concrets d’aménagements réalisés par des municipalités et présentera le financement disponible depuis avril 2025\, qui permet de soutenir une partie ou la totalité des projets d’aménagement. \nInscription
URL:https://rmnat.org/evenement/emprises-connectees-solutions-damenagement-dhydro-quebec-pour-la-biodiversite/
CATEGORIES:Les Midis-conservation
ATTACH;FMTTYPE=image/png:https://rmnat.org/wp-content/uploads/2026/01/emprises-2.png
END:VEVENT
END:VCALENDAR