BEGIN:VCALENDAR
VERSION:2.0
PRODID:-//Réseau de milieux naturels protégés - ECPv6.15.17.1//NONSGML v1.0//EN
CALSCALE:GREGORIAN
METHOD:PUBLISH
X-ORIGINAL-URL:https://rmnat.org
X-WR-CALDESC:Évènements pour Réseau de milieux naturels protégés
REFRESH-INTERVAL;VALUE=DURATION:PT1H
X-Robots-Tag:noindex
X-PUBLISHED-TTL:PT1H
BEGIN:VTIMEZONE
TZID:America/Toronto
BEGIN:DAYLIGHT
TZOFFSETFROM:-0500
TZOFFSETTO:-0400
TZNAME:EDT
DTSTART:20240310T070000
END:DAYLIGHT
BEGIN:STANDARD
TZOFFSETFROM:-0400
TZOFFSETTO:-0500
TZNAME:EST
DTSTART:20241103T060000
END:STANDARD
BEGIN:DAYLIGHT
TZOFFSETFROM:-0500
TZOFFSETTO:-0400
TZNAME:EDT
DTSTART:20250309T070000
END:DAYLIGHT
BEGIN:STANDARD
TZOFFSETFROM:-0400
TZOFFSETTO:-0500
TZNAME:EST
DTSTART:20251102T060000
END:STANDARD
BEGIN:DAYLIGHT
TZOFFSETFROM:-0500
TZOFFSETTO:-0400
TZNAME:EDT
DTSTART:20260308T070000
END:DAYLIGHT
BEGIN:STANDARD
TZOFFSETFROM:-0400
TZOFFSETTO:-0500
TZNAME:EST
DTSTART:20261101T060000
END:STANDARD
END:VTIMEZONE
BEGIN:VEVENT
DTSTART;TZID=America/Toronto:20250730T120000
DTEND;TZID=America/Toronto:20250730T130000
DTSTAMP:20260423T222006
CREATED:20250625T193114Z
LAST-MODIFIED:20250707T182439Z
UID:10000266-1753876800-1753880400@rmnat.org
SUMMARY:[ANNULÉ] Verdissement urbain et agricole
DESCRIPTION:Et si le verdissement devenait un levier à la fois pour l’agriculture\, la biodiversité et la qualité de vie en ville? Lors de ce webinaire\, Isabelle Morin\, chargée de projets en changements climatiques au Conseil régional de l’environnement du Centre-du-Québec\, vous présentera une variété d’initiatives concrètes menées autant en milieu agricole qu’urbain. \nDans un premier temps\, découvrez des aménagements réalisés en zone agricole : haies brise-vent\, bandes riveraines\, coulées\, ainsi que leurs nombreux bénéfices pour les agriculteurs et les écosystèmes. Puis\, cap sur les milieux urbains! Isabelle présentera également deux projets porteurs : Sous les pavés et Verdissement ICI (Institutions\, commerces et industries)\, qui transforment nos villes pour les rendre plus résilientes\, plus vertes et plus humaines. \nUn rendez-vous inspirant pour repenser nos espaces du champ à la ville! \n[Webinaire annulé]
URL:https://rmnat.org/evenement/verdissement-urbain-et-agricole/
CATEGORIES:Les Midis-conservation
ATTACH;FMTTYPE=image/png:https://rmnat.org/wp-content/uploads/2025/06/verdissement-agricole-7.png
END:VEVENT
END:VCALENDAR