BEGIN:VCALENDAR
VERSION:2.0
PRODID:-//Réseau de milieux naturels protégés - ECPv6.15.17.1//NONSGML v1.0//EN
CALSCALE:GREGORIAN
METHOD:PUBLISH
X-ORIGINAL-URL:https://rmnat.org
X-WR-CALDESC:Évènements pour Réseau de milieux naturels protégés
REFRESH-INTERVAL;VALUE=DURATION:PT1H
X-Robots-Tag:noindex
X-PUBLISHED-TTL:PT1H
BEGIN:VTIMEZONE
TZID:America/Toronto
BEGIN:DAYLIGHT
TZOFFSETFROM:-0500
TZOFFSETTO:-0400
TZNAME:EDT
DTSTART:20240310T070000
END:DAYLIGHT
BEGIN:STANDARD
TZOFFSETFROM:-0400
TZOFFSETTO:-0500
TZNAME:EST
DTSTART:20241103T060000
END:STANDARD
BEGIN:DAYLIGHT
TZOFFSETFROM:-0500
TZOFFSETTO:-0400
TZNAME:EDT
DTSTART:20250309T070000
END:DAYLIGHT
BEGIN:STANDARD
TZOFFSETFROM:-0400
TZOFFSETTO:-0500
TZNAME:EST
DTSTART:20251102T060000
END:STANDARD
BEGIN:DAYLIGHT
TZOFFSETFROM:-0500
TZOFFSETTO:-0400
TZNAME:EDT
DTSTART:20260308T070000
END:DAYLIGHT
BEGIN:STANDARD
TZOFFSETFROM:-0400
TZOFFSETTO:-0500
TZNAME:EST
DTSTART:20261101T060000
END:STANDARD
END:VTIMEZONE
BEGIN:VEVENT
DTSTART;TZID=America/Toronto:20250805T130000
DTEND;TZID=America/Toronto:20250805T143000
DTSTAMP:20260423T205053
CREATED:20250709T163634Z
LAST-MODIFIED:20250729T170004Z
UID:10000267-1754398800-1754404200@rmnat.org
SUMMARY:Élections à l'horizon : mobiliser le soutien politique au profit de la conservation
DESCRIPTION:Avec les élections municipales à l’horizon cet automne – et une pause estivale des activités parlementaires –\, c’est le moment idéal pour préparer vos actions de mobilisation politique. Rejoignez notre webinaire pour découvrir comment engager efficacement les élu·es municipaux et les député·es en faveur de la conservation de la biodiversité. Vous y apprendrez comment tirer parti de cette période stratégique pour renforcer votre réseau\, bâtir des alliances durables et faire entendre la voix de votre organisme auprès des décisionnaires. Repartez avec des outils concrets pour structurer vos démarches\, développer votre influence et amplifier votre impact à l’échelle locale et nationale. \nInscription
URL:https://rmnat.org/evenement/elections-a-lhorizon-mobiliser-le-soutien-politique-au-profit-de-la-conservation/
CATEGORIES:Les Rendez-vous RMN
ATTACH;FMTTYPE=image/png:https://rmnat.org/wp-content/uploads/2025/07/elections-a-lhorizon-13.png
END:VEVENT
END:VCALENDAR