BEGIN:VCALENDAR
VERSION:2.0
PRODID:-//Réseau de milieux naturels protégés - ECPv6.15.17.1//NONSGML v1.0//EN
CALSCALE:GREGORIAN
METHOD:PUBLISH
X-ORIGINAL-URL:https://rmnat.org
X-WR-CALDESC:Évènements pour Réseau de milieux naturels protégés
REFRESH-INTERVAL;VALUE=DURATION:PT1H
X-Robots-Tag:noindex
X-PUBLISHED-TTL:PT1H
BEGIN:VTIMEZONE
TZID:America/Toronto
BEGIN:DAYLIGHT
TZOFFSETFROM:-0500
TZOFFSETTO:-0400
TZNAME:EDT
DTSTART:20240310T070000
END:DAYLIGHT
BEGIN:STANDARD
TZOFFSETFROM:-0400
TZOFFSETTO:-0500
TZNAME:EST
DTSTART:20241103T060000
END:STANDARD
BEGIN:DAYLIGHT
TZOFFSETFROM:-0500
TZOFFSETTO:-0400
TZNAME:EDT
DTSTART:20250309T070000
END:DAYLIGHT
BEGIN:STANDARD
TZOFFSETFROM:-0400
TZOFFSETTO:-0500
TZNAME:EST
DTSTART:20251102T060000
END:STANDARD
BEGIN:DAYLIGHT
TZOFFSETFROM:-0500
TZOFFSETTO:-0400
TZNAME:EDT
DTSTART:20260308T070000
END:DAYLIGHT
BEGIN:STANDARD
TZOFFSETFROM:-0400
TZOFFSETTO:-0500
TZNAME:EST
DTSTART:20261101T060000
END:STANDARD
END:VTIMEZONE
BEGIN:VEVENT
DTSTART;TZID=America/Toronto:20250924T120000
DTEND;TZID=America/Toronto:20250924T130000
DTSTAMP:20260423T192050
CREATED:20250819T143919Z
LAST-MODIFIED:20250825T200514Z
UID:10000268-1758715200-1758718800@rmnat.org
SUMMARY:Feux de forêt au Québec : l’écologie de la forêt boréale et son aménagement
DESCRIPTION:Au Canada\, plus de 8 000 feux surviennent en moyenne chaque année et ils détruisent plus de 2\,1 millions d’hectares. Sont-ils tous des catastrophes? Comment expliquer que certaines espèces ont même évolué pour s’y adapter? Quelle pourrait être la fonction écologique de ces feux et comment une forêt se régénère-t-elle après le passage des flammes? Peut-on s’inspirer de leurs effets pour mieux aménager nos forêts et limiter les dommages causés par les feux? Réflexion sur les enjeux soulevés par les feux de forêt\, des feux que les changements climatiques rendront fort probablement plus nombreux. \nInscription
URL:https://rmnat.org/evenement/feux-de-foret-au-quebec-lecologie-de-la-foret-boreale-et-son-amenagement/
CATEGORIES:Les Midis-conservation
ATTACH;FMTTYPE=image/png:https://rmnat.org/wp-content/uploads/2025/08/MC-feux-forets-9.png
END:VEVENT
END:VCALENDAR