BEGIN:VCALENDAR
VERSION:2.0
PRODID:-//Réseau de milieux naturels protégés - ECPv6.15.17.1//NONSGML v1.0//EN
CALSCALE:GREGORIAN
METHOD:PUBLISH
X-ORIGINAL-URL:https://rmnat.org
X-WR-CALDESC:Évènements pour Réseau de milieux naturels protégés
REFRESH-INTERVAL;VALUE=DURATION:PT1H
X-Robots-Tag:noindex
X-PUBLISHED-TTL:PT1H
BEGIN:VTIMEZONE
TZID:America/Toronto
BEGIN:DAYLIGHT
TZOFFSETFROM:-0500
TZOFFSETTO:-0400
TZNAME:EDT
DTSTART:20230312T070000
END:DAYLIGHT
BEGIN:STANDARD
TZOFFSETFROM:-0400
TZOFFSETTO:-0500
TZNAME:EST
DTSTART:20231105T060000
END:STANDARD
BEGIN:DAYLIGHT
TZOFFSETFROM:-0500
TZOFFSETTO:-0400
TZNAME:EDT
DTSTART:20240310T070000
END:DAYLIGHT
BEGIN:STANDARD
TZOFFSETFROM:-0400
TZOFFSETTO:-0500
TZNAME:EST
DTSTART:20241103T060000
END:STANDARD
BEGIN:DAYLIGHT
TZOFFSETFROM:-0500
TZOFFSETTO:-0400
TZNAME:EDT
DTSTART:20250309T070000
END:DAYLIGHT
BEGIN:STANDARD
TZOFFSETFROM:-0400
TZOFFSETTO:-0500
TZNAME:EST
DTSTART:20251102T060000
END:STANDARD
END:VTIMEZONE
BEGIN:VEVENT
DTSTART;TZID=America/Toronto:20240402T170000
DTEND;TZID=America/Toronto:20240402T190000
DTSTAMP:20260423T165056
CREATED:20240223T025017Z
LAST-MODIFIED:20240223T025353Z
UID:10000159-1712077200-1712084400@rmnat.org
SUMMARY:Gala des Prix de la conservation Nature sauvage 2024
DESCRIPTION:À la veille des Ateliers sur la conservation des milieux naturels 2024 et en partenariat avec Nature Sauvage et la Fondation de la faune du Québec\, le RMN est fier de coorganiser la première édition du Gala des Prix de la conservation Nature sauvage qui récompensent\, encouragent et soutiennent les individus et les regroupements qui œuvrent à la préservation des milieux naturels au Québec. \nAu cours de cette soirée en formule 5 à 7\, un total de 10 500 $ en bourses sera ainsi distribué à travers les prix suivants: \n– Prix de la relève\n– Prix de l’acquisition de l’année\n– Prix de l’initiative de l’année \nPour de plus amples détails sur la mise en candidature* : https://www.naturesauvage.ca/prix-conservation/\n*Veuillez noter que la période de mise en candidature s’est terminée le 22 janvier dernier. \n***Cet événement affiche désormais complet***
URL:https://rmnat.org/evenement/gala-des-prix-de-la-conservation-nature-sauvage-2024/
LOCATION:La salle Espace Urbain au Centre des congrès de Québec\, 1000 Bd René-Lévesque E\, \, Québec\, QC\, G1R 5T8\, Canada
CATEGORIES:Évènements
ATTACH;FMTTYPE=image/png:https://rmnat.org/wp-content/uploads/2024/02/Gala-des-9.png
END:VEVENT
END:VCALENDAR