BEGIN:VCALENDAR
VERSION:2.0
PRODID:-//Réseau de milieux naturels protégés - ECPv6.15.17.1//NONSGML v1.0//EN
CALSCALE:GREGORIAN
METHOD:PUBLISH
X-WR-CALNAME:Réseau de milieux naturels protégés
X-ORIGINAL-URL:https://rmnat.org
X-WR-CALDESC:Évènements pour Réseau de milieux naturels protégés
REFRESH-INTERVAL;VALUE=DURATION:PT1H
X-Robots-Tag:noindex
X-PUBLISHED-TTL:PT1H
BEGIN:VTIMEZONE
TZID:America/Toronto
BEGIN:DAYLIGHT
TZOFFSETFROM:-0500
TZOFFSETTO:-0400
TZNAME:EDT
DTSTART:20200308T070000
END:DAYLIGHT
BEGIN:STANDARD
TZOFFSETFROM:-0400
TZOFFSETTO:-0500
TZNAME:EST
DTSTART:20201101T060000
END:STANDARD
BEGIN:DAYLIGHT
TZOFFSETFROM:-0500
TZOFFSETTO:-0400
TZNAME:EDT
DTSTART:20210314T070000
END:DAYLIGHT
BEGIN:STANDARD
TZOFFSETFROM:-0400
TZOFFSETTO:-0500
TZNAME:EST
DTSTART:20211107T060000
END:STANDARD
BEGIN:DAYLIGHT
TZOFFSETFROM:-0500
TZOFFSETTO:-0400
TZNAME:EDT
DTSTART:20220313T070000
END:DAYLIGHT
BEGIN:STANDARD
TZOFFSETFROM:-0400
TZOFFSETTO:-0500
TZNAME:EST
DTSTART:20221106T060000
END:STANDARD
END:VTIMEZONE
BEGIN:VEVENT
DTSTART;TZID=America/Toronto:20210722T160000
DTEND;TZID=America/Toronto:20210722T170000
DTSTAMP:20260424T023816
CREATED:20210617T185011Z
LAST-MODIFIED:20210715T190211Z
UID:10000198-1626969600-1626973200@rmnat.org
SUMMARY:Faites parler de vous!
DESCRIPTION:*Évènement réservé aux membres\, leurs employés et bénévoles\n\nNorme 1 des bonnes pratiques de conservation des organismes: positionner votre organisme au sein de sa communauté. Mais comment y arriver si vous êtes caché derrière la forêt ?!  Parlez de vous pour FAIRE PARLER DE VOUS.\n\n\nNous partagerons trucs et astuces pour assurer à votre communauté une meilleure compréhension de votre rôle d’acteur régional et de votre mission\, et accroître votre visibilité. Démystifiez les communications de base et les essentielles afin de faire connaître votre organisme et vos réalisations avec nos experts invités. \nActivité-réseautage ayant pour but des échanges constructifs\, un partage d’expériences et des questions et réponses sur la conservation volontaire\, pour de meilleures pratiques. \nEXPERTS INVITÉS : \n\nÉlizabeth Sbaglia\, Directrice des communications et du marketing chez Conservation e la nature Canada\nMarie-Hélène Thibeault\, Cheffe de service – Communications et philanthropie chez Corridor Appalachien\nINSCRIPTION
URL:https://rmnat.org/evenement/faites-parler-de-vous/
CATEGORIES:Les Rendez-vous RMN
ATTACH;FMTTYPE=image/jpeg:https://rmnat.org/wp-content/uploads/2021/06/1859868943-medium.jpg
END:VEVENT
END:VCALENDAR